BEGIN:VCALENDAR
VERSION:2.0
PRODID:-//eventon.com NONSGML v1.0//EN
BEGIN:VEVENT
UID:69e679a8d18c5
DTSTAMP:20260420T140824
DTSTART:20221031T050000Z
DTEND:20221106T045900Z
LOCATION:
SUMMARY:ISIN 2022
DESCRIPTION: Octubre 21 a Noviembre 5 de 2022 Chicago (Illinois)  8th Curso y Congreso de la International  Society of Intraoperative Neurophysiology (ISIN). &nbsp;
URL:https://fisiatria.unal.edu.co/eventos-hide/isin-2022/
END:VEVENT
END:VCALENDAR